BEGIN:VCALENDAR
VERSION:2.0
PRODID:-//wp-events-plugin.com//7.2.3.1//EN
TZID:Europe/Berlin
X-WR-TIMEZONE:Europe/Berlin
BEGIN:VEVENT
UID:300@bdsm-potsdam.de
DTSTART;TZID=Europe/Berlin:20260305T190000
DTEND;TZID=Europe/Berlin:20260305T230000
DTSTAMP:20260112T124019Z
URL:https://bdsm-potsdam.de/events/1206-2026-03-05/
SUMMARY:BDSM Stammtisch Potsdam (großer Stammi)
DESCRIPTION:lockeres monatliches Treffen (jeden ersten Donnerstag des Monat
 s) für BDSM Interessierte zum sich informieren\, gemeinsame Aktivitäten 
 planen\, und sich gemütlich zu unterhalten.\n\nNeugierige/ Anfänger/ Neu
 einsteiger.... ab 18 Jahre werden mit offenen Armen empfangen und erhalten
  viele Tipps/ Infomaterialien\, können ihre Fragen los werden.\n\nBei Bed
 arf und rechtzeitiger Anfrage (intern) finden Themenabende ca. zwischen 19
  und 20 Uhr statt.\n\nALEX in der Wilhelmgallerie\, Platz der Einheit 14\,
  14467 Potsdam (ca. 10 Min mit Strassenbahn und kurzem Fußweg vom Hauptba
 hnhof entfernt. Parkplätze in der Nähe vorhanden.)\n\nIn der Regel sitze
 n wir drinnen in der Mall (überdachter Innenhof)\, bei schönem Wetter dr
 außen.\n\nNormale Kleidung\, keine BDSM Spiele\, keine Belästigungen
LOCATION:TOMASA\, Kurfürstenstr. 52\, Potsdam\, Brandenburg\, 14469\, Deut
 schland
X-APPLE-STRUCTURED-LOCATION;VALUE=URI;X-ADDRESS=Kurfürstenstr. 52\, Potsda
 m\, Brandenburg\, 14469\, Deutschland;X-APPLE-RADIUS=100;X-TITLE=TOMASA:ge
 o:0,0
END:VEVENT
BEGIN:VTIMEZONE
TZID:Europe/Berlin
X-LIC-LOCATION:Europe/Berlin
BEGIN:STANDARD
DTSTART:20251026T020000
TZOFFSETFROM:+0200
TZOFFSETTO:+0100
TZNAME:CET
END:STANDARD
END:VTIMEZONE
END:VCALENDAR