BEGIN:VCALENDAR
VERSION:2.0
PRODID:-//wp-events-plugin.com//7.2.3.1//EN
TZID:Europe/Berlin
X-WR-TIMEZONE:Europe/Berlin
BEGIN:VEVENT
UID:124@bdsm-potsdam.de
DTSTART;TZID=Europe/Berlin:20230507T140000
DTEND;TZID=Europe/Berlin:20230507T180000
DTSTAMP:20230418T133927Z
URL:https://bdsm-potsdam.de/events/bdsm-potsdam-bondage-picknick/
SUMMARY:BDSM Potsdam Bondage Picknick
DESCRIPTION:Bondage Picknick ab 14 Uhr bei schönem Wetter
LOCATION:Freundschaftsinsel\, hinteres Ende der Insel (östlich)\, Potsdam\
 , 14467\, Deutschland
X-APPLE-STRUCTURED-LOCATION;VALUE=URI;X-ADDRESS=hinteres Ende der Insel (ö
 stlich)\, Potsdam\, 14467\, Deutschland;X-APPLE-RADIUS=100;X-TITLE=Freunds
 chaftsinsel:geo:0,0
END:VEVENT
BEGIN:VTIMEZONE
TZID:Europe/Berlin
X-LIC-LOCATION:Europe/Berlin
BEGIN:DAYLIGHT
DTSTART:20230326T030000
TZOFFSETFROM:+0100
TZOFFSETTO:+0200
TZNAME:CEST
END:DAYLIGHT
END:VTIMEZONE
END:VCALENDAR