BEGIN:VCALENDAR
VERSION:2.0
PRODID:-//wp-events-plugin.com//7.2.3.1//EN
TZID:Europe/Berlin
X-WR-TIMEZONE:Europe/Berlin
BEGIN:VEVENT
UID:329@bdsm-potsdam.de
DTSTART;TZID=Europe/Berlin:20251002T190000
DTEND;TZID=Europe/Berlin:20251002T230000
DTSTAMP:20250923T184926Z
URL:https://bdsm-potsdam.de/events/bdsm-stammtisch-potsdam-2023-04-06-2/
SUMMARY:BDSM Stammtisch Potsdam
DESCRIPTION:Stammtisch jeder erste Donnerstag des Monats ab 19 Uhr\, La Lea
 nder
LOCATION:La Leander\, Benkertstr. 1\, Potsdam\, Bundesland\, 14467\, Deutsc
 hland
X-APPLE-STRUCTURED-LOCATION;VALUE=URI;X-ADDRESS=Benkertstr. 1\, Potsdam\, B
 undesland\, 14467\, Deutschland;X-APPLE-RADIUS=100;X-TITLE=La Leander:geo:
 0,0
END:VEVENT
BEGIN:VTIMEZONE
TZID:Europe/Berlin
X-LIC-LOCATION:Europe/Berlin
BEGIN:DAYLIGHT
DTSTART:20250330T030000
TZOFFSETFROM:+0100
TZOFFSETTO:+0200
TZNAME:CEST
END:DAYLIGHT
END:VTIMEZONE
END:VCALENDAR