BEGIN:VCALENDAR
VERSION:2.0
PRODID:-//wp-events-plugin.com//7.2.3.1//EN
TZID:Europe/Berlin
X-WR-TIMEZONE:Europe/Berlin
BEGIN:VEVENT
UID:276@bdsm-potsdam.de
DTSTART;TZID=Europe/Berlin:20250126T170000
DTEND;TZID=Europe/Berlin:20250126T200000
DTSTAMP:20241223T161108Z
URL:https://bdsm-potsdam.de/events/bondage-jam-im-jasa-potsdam-michael-2/
SUMMARY:Bondage Jam im Jasa Potsdam (Michael)
DESCRIPTION:Von Armornadi (Michael) geleitet finden im "Jasa Potsdam" Bonda
 ge Jams (freies Fesseln ohne Workshop) statt.\n\nAnmelden ist Pflicht im J
 oyclub.de über die Events jeweils.
LOCATION:Jasa Potsdam\, Konsumhof 2\, Potsdam\, 14482\, Deutschland
X-APPLE-STRUCTURED-LOCATION;VALUE=URI;X-ADDRESS=Konsumhof 2\, Potsdam\, 144
 82\, Deutschland;X-APPLE-RADIUS=100;X-TITLE=Jasa Potsdam:geo:0,0
END:VEVENT
BEGIN:VTIMEZONE
TZID:Europe/Berlin
X-LIC-LOCATION:Europe/Berlin
BEGIN:STANDARD
DTSTART:20241027T020000
TZOFFSETFROM:+0200
TZOFFSETTO:+0100
TZNAME:CET
END:STANDARD
END:VTIMEZONE
END:VCALENDAR