BEGIN:VCALENDAR
VERSION:2.0
PRODID:-//wp-events-plugin.com//7.2.3.1//EN
TZID:Europe/Berlin
X-WR-TIMEZONE:Europe/Berlin
BEGIN:VEVENT
UID:278@bdsm-potsdam.de
DTSTART;TZID=Europe/Berlin:20250419T170000
DTEND;TZID=Europe/Berlin:20250419T200000
DTSTAMP:20241223T161310Z
URL:https://bdsm-potsdam.de/events/bondage-jam-im-jasa-potsdam-michael-4/
SUMMARY:Bondage Jam im Jasa Potsdam (Michael)
DESCRIPTION:Von Armornadi (Michael) geleitet finden im "Jasa Potsdam" Bonda
 ge Jams (freies Fesseln ohne Workshop) statt.\n\nAnmelden ist Pflicht im J
 oyclub.de über die Events jeweils.
LOCATION:Jasa Potsdam\, Konsumhof 2\, Potsdam\, 14482\, Deutschland
X-APPLE-STRUCTURED-LOCATION;VALUE=URI;X-ADDRESS=Konsumhof 2\, Potsdam\, 144
 82\, Deutschland;X-APPLE-RADIUS=100;X-TITLE=Jasa Potsdam:geo:0,0
END:VEVENT
BEGIN:VTIMEZONE
TZID:Europe/Berlin
X-LIC-LOCATION:Europe/Berlin
BEGIN:DAYLIGHT
DTSTART:20250330T030000
TZOFFSETFROM:+0100
TZOFFSETTO:+0200
TZNAME:CEST
END:DAYLIGHT
END:VTIMEZONE
END:VCALENDAR