BEGIN:VCALENDAR
VERSION:2.0
PRODID:-//wp-events-plugin.com//7.2.3.1//EN
TZID:Europe/Berlin
X-WR-TIMEZONE:Europe/Berlin
BEGIN:VEVENT
UID:336@bdsm-potsdam.de
DTSTART;TZID=Europe/Berlin:20260319T190000
DTEND;TZID=Europe/Berlin:20260319T220000
DTSTAMP:20251029T094155Z
URL:https://bdsm-potsdam.de/events/der-junge-stammtisch-laedt-ein-alter-18
 -bis-33-jahre-2025-11-20-2025-12-18-2026-01-15-2026-02-19-2026-03-19/
SUMMARY:Der Junge Stammtisch lädt ein (Alter: 18 bis 33 Jahre)
DESCRIPTION:weitere Infos findet ihr auf unserer neuen Seite
LOCATION:Archiv Potsdam\, Leipziger Straße 60\, Potsdam\, 14473\, Deutschl
 and
X-APPLE-STRUCTURED-LOCATION;VALUE=URI;X-ADDRESS=Leipziger Straße 60\, Pots
 dam\, 14473\, Deutschland;X-APPLE-RADIUS=100;X-TITLE=Archiv Potsdam:geo:0,
 0
END:VEVENT
BEGIN:VTIMEZONE
TZID:Europe/Berlin
X-LIC-LOCATION:Europe/Berlin
BEGIN:STANDARD
DTSTART:20251026T020000
TZOFFSETFROM:+0200
TZOFFSETTO:+0100
TZNAME:CET
END:STANDARD
END:VTIMEZONE
END:VCALENDAR