BEGIN:VCALENDAR
VERSION:2.0
PRODID:-//wp-events-plugin.com//7.2.3.1//EN
TZID:Europe/Berlin
X-WR-TIMEZONE:Europe/Berlin
BEGIN:VEVENT
UID:264@bdsm-potsdam.de
DTSTART;TZID=Europe/Berlin:20241005T120000
DTEND;TZID=Europe/Berlin:20241005T150000
DTSTAMP:20240728T105823Z
URL:https://bdsm-potsdam.de/events/more-ropes-workshop-marie-anmeldepflich
 t/
SUMMARY:More Ropes Workshop (Marie) Anmeldepflicht
DESCRIPTION:\nunbedingt anmelden: https://www.mariecsiebers.com/oder hier h
 ttps://www.joyclub.de/event/1539309.one_rope_potsdam.html\n\n\n\n\n&nbsp\;
 \n\n&nbsp\;\n\nWir gehen in die nächste Runde des Shibari-Workshops.\n\nN
 ach One-Rope kommt More Ropes\n\n\n&nbsp\;\n\nEgal ob Anfänger*innen oder
  Neugierige.\n\nWorum soll es gehen?\n\nLerne mit den Seilen sicher und in
 tuitiv zu fesseln. Diesmal gibt es mehr Technik. Dennoch liegt der Fokus w
 eiterhin im Kontakt zwischen dir und deinem Model.\n\n&nbsp\;\n\n&nbsp\;\n
 \nVorab gibt es natürlich die Theorie. Ich kläre euch über mögliche Ri
 siken auf\, die beim Fesseln entstehen können und gebe euch eine kleine S
 eilkunde.\nDann geht es auch schon in die Praxis.\n\n&nbsp\;\n\nWas ihr ei
 nigermaßen können solltet:\n\n 	Single Column tie\n\n&nbsp\;\n\nInhalt w
 ird sein:\n\n 	Sicherheit\n 	kleine Seilkunde\n 	Double Column tie mit Ste
 g\n 	Verlängerung\n 	unterschiedliche Frictions\n 	3-Wege Technik\n\nIhr 
 werdet genug Zeit haben euch auszuprobieren und auch zu switchen.\nAch\, a
 uch wenn es selbsterklärend sein sollte\, will ich es trotzdem erwähnen.
  Wir bleiben die ganze Zeit am Boden.\n\nPausen werden wir nach Bedarf mac
 hen. Dann könnt ihr euch gern am kleinen Buffet stärken.\n\n&nbsp\;\n\nW
 as solltet ihr noch wissen?\n\nBringt wenn möglich eigene Seile mit. Soll
 tet ihr keines haben\, sagt mir bitte bei der Anmeldung Bescheid\, damit i
 ch es einplanen kann. Es herrscht zwar kein Dresscode\, aber tragt etwas b
 equemes. Vor allem tragt keinen BH mit Bügel.\n\n&nbsp\;\n\nWenig bis kei
 ne Vorerfahrung nötig.\n\nDer Workshop ist aufgrund des Platzes auf 14 Te
 ilnehmer*innen beschränkt.\n\n\n\n\n\n\n\n\n\n\n\n\n\nWann:\n\n05.10.2024
  12:00 - 15:00\n\n&nbsp\;\n\nWo:\n\nJASA Potsdam\n\nKonsumhof 2\n\n14482 P
 otsdam\n\n\n\n\n***\n\nUm 16 Uhr findet die Bondage-Jam statt. Für alle d
 ie am One-Rope teilnehmen ist dieser kostenfrei. Ihr habt 1 Std. oder län
 ger Zeit euch in der Umgebung mit etwas zu Essen zu stärken. Die Jam ist 
 kein Workshop. Weitere Infos dazu findet ihr hier...\n\n\n\n\n\n\n\n\n\n\n
 \n\n\n\n\n\n\n\n\nKosten:\n\nearly bird bei Bezahlung 4 Wochen vor Worksho
 p-Beginn. Danach erhöht sich deine Teilnahmekosten automatisch auf den no
 rmalen Preis. Der Early-Bird-Tarif endet am 31.08.24 18 Uhr.\n\n40€\n\n&
 nbsp\;\n\nNormal\n\n50 € pro Person\n\n&nbsp\;\n\n\n\n\n&nbsp\;\n\nStorn
 oregelungen:\nBei Stornierungen wird eine Bearbeitungsgebühr erhoben:\n- 
 bis 2 Woche vor dem Termin 0%\n- ab 2 Woche vor dem Termin 50%\n- 48 Std. 
 vor dem Termin 100%\n\n
LOCATION:Jasa Potsdam\, Konsumhof 2\, Potsdam\, 14482\, Deutschland
X-APPLE-STRUCTURED-LOCATION;VALUE=URI;X-ADDRESS=Konsumhof 2\, Potsdam\, 144
 82\, Deutschland;X-APPLE-RADIUS=100;X-TITLE=Jasa Potsdam:geo:0,0
END:VEVENT
BEGIN:VTIMEZONE
TZID:Europe/Berlin
X-LIC-LOCATION:Europe/Berlin
BEGIN:DAYLIGHT
DTSTART:20240331T030000
TZOFFSETFROM:+0100
TZOFFSETTO:+0200
TZNAME:CEST
END:DAYLIGHT
END:VTIMEZONE
END:VCALENDAR