BEGIN:VCALENDAR
VERSION:2.0
PRODID:-//wp-events-plugin.com//7.2.3.1//EN
TZID:Europe/Berlin
X-WR-TIMEZONE:Europe/Berlin
BEGIN:VEVENT
UID:290@bdsm-potsdam.de
DTSTART;TZID=Europe/Berlin:20251018T120000
DTEND;TZID=Europe/Berlin:20251018T150000
DTSTAMP:20241223T165409Z
URL:https://bdsm-potsdam.de/events/more-ropes-workshop/
SUMMARY:more Ropes -  WORKSHOP
DESCRIPTION:Von Armornadi (Marie) geleitet findet im "Jasa Potsdam" der one
  Rope Workshop statt.\n\nAnmelden ist Pflicht im Joyclub.de.\n\n\n\n\n&nbs
 p\;\n\nWir gehen in die nächste Runde des Shibari-Workshops.\n\nNach One-
 Rope kommt More Ropes.\n\n\nEgal ob Anfänger*innen oder Neugierige.\n\n\n
 \n&nbsp\;\n\nweitere Infos hier\n\nhttps://www.mariecsiebers.com/angebote/
 shibari-bondage/more-ropes-workshop/
LOCATION:Jasa Potsdam\, Konsumhof 2\, Potsdam\, 14482\, Deutschland
X-APPLE-STRUCTURED-LOCATION;VALUE=URI;X-ADDRESS=Konsumhof 2\, Potsdam\, 144
 82\, Deutschland;X-APPLE-RADIUS=100;X-TITLE=Jasa Potsdam:geo:0,0
END:VEVENT
BEGIN:VTIMEZONE
TZID:Europe/Berlin
X-LIC-LOCATION:Europe/Berlin
BEGIN:DAYLIGHT
DTSTART:20250330T030000
TZOFFSETFROM:+0100
TZOFFSETTO:+0200
TZNAME:CEST
END:DAYLIGHT
END:VTIMEZONE
END:VCALENDAR