BEGIN:VCALENDAR
VERSION:2.0
PRODID:-//wp-events-plugin.com//7.2.3.1//EN
TZID:Europe/Berlin
X-WR-TIMEZONE:Europe/Berlin
BEGIN:VEVENT
UID:286@bdsm-potsdam.de
DTSTART;TZID=Europe/Berlin:20250111T120000
DTEND;TZID=Europe/Berlin:20250111T133000
DTSTAMP:20241223T162453Z
URL:https://bdsm-potsdam.de/events/offenes-fesseltraining-im-jasa-potsdam/
SUMMARY:offenes Fesseltraining im Jasa Potsdam
DESCRIPTION:Von Armornadi (Marie) geleitet findet im "Jasa Potsdam" ein off
 enes Fesseltraining statt.\n\nAnmelden ist Pflicht im Joyclub.de über die
  Events jeweils.
LOCATION:Jasa Potsdam\, Konsumhof 2\, Potsdam\, 14482\, Deutschland
X-APPLE-STRUCTURED-LOCATION;VALUE=URI;X-ADDRESS=Konsumhof 2\, Potsdam\, 144
 82\, Deutschland;X-APPLE-RADIUS=100;X-TITLE=Jasa Potsdam:geo:0,0
END:VEVENT
BEGIN:VTIMEZONE
TZID:Europe/Berlin
X-LIC-LOCATION:Europe/Berlin
BEGIN:STANDARD
DTSTART:20241027T020000
TZOFFSETFROM:+0200
TZOFFSETTO:+0100
TZNAME:CET
END:STANDARD
END:VTIMEZONE
END:VCALENDAR