BEGIN:VCALENDAR
VERSION:2.0
PRODID:-//wp-events-plugin.com//7.2.3.1//EN
TZID:Europe/Berlin
X-WR-TIMEZONE:Europe/Berlin
BEGIN:VEVENT
UID:262@bdsm-potsdam.de
DTSTART;TZID=Europe/Berlin:20240825T130000
DTEND;TZID=Europe/Berlin:20240825T160000
DTSTAMP:20240728T105914Z
URL:https://bdsm-potsdam.de/events/one-rope-workshop-marie-anmeldepflicht/
SUMMARY:One Rope Workshop (Marie) Anmeldepflicht
DESCRIPTION:unbedingt anmelden: https://www.mariecsiebers.com/\n\noder hier
  https://www.joyclub.de/event/1539309.one_rope_potsdam.html\n\n&nbsp\;\n\n
 &nbsp\;\n\n\n\n\nEs ist wieder da:\nMein One-Rope-Workshop.\n\n&nbsp\;\n\n
 Egal ob Anfänger*innen oder Neugierige.\n\nWorum soll es gehen?\nEin Seil
 \, zwei Methoden und ihr beide im Kontakt miteinander sind Inhalt dieses W
 orkshops. Lerne mit einem Seil intuitiv und sicher zu fesseln.\n\nVorab gi
 bt es natürlich die Theorie. Ich kläre euch über mögliche Risiken auf\
 , die beim Fesseln entstehen können und gebe euch eine kleine Seilkunde.\
 nDann geht es auch schon in die Praxis.\n\n&nbsp\;\n\nInhalt wird sein:\n\
 n 	Sicherheit\n 	kleine Seilkunde\n 	Single Knot\n 	Umgang mit dem Seil\n 
 	Friction\n\nIhr werdet genug Zeit haben euch auszuprobieren und auch zu s
 witchen.\nAch\, auch wenn es selbsterklärend sein sollte\, will ich es tr
 otzdem erwähnen. Wir bleiben die ganze Zeit am Boden.\n\nPausen werden wi
 r nach Bedarf machen. Dann könnt ihr euch gern am kleinen Buffet stärken
 .\n\n&nbsp\;\n\nWas solltet ihr noch wissen?\n\nIhr braucht keine eigenen 
 Seile mitbringen. Falls ihr eins habt\, gerne\, falls nicht kann ich euch 
 vor Ort eins ausleihen. Es herrscht zwar kein Dresscode\, aber tragt etwas
  bequemes. Vor allem tragt keinen BH mit Bügel.\n\n&nbsp\;\n\nKeine Vorer
 fahrung nötig.\n\nDer Workshop ist aufgrund des Platzes auf 14 Teilnehmer
 *innen beschränkt.\n\n\n\n\n\n\n\n\n\n\n\n\n\nWann:\n\n25.08.2024 13:00 -
  16:00\n\n&nbsp\;\n\nWo:\n\nJASA Potsdam\n\nKonsumhof 2\n\n14482 Potsdam\n
 \n\n\n\n***\n\nUm 17 Uhr findet die Bondage-Jam statt. Für alle die am On
 e-Rope teilnehmen ist dieser kostenfrei. Ihr habt 1 Std. oder länger Zeit
  euch in der Umgebung mit etwas zu Essen zu stärken. Die Jam ist kein Wor
 kshop.\n\n\n\n\n\n\n\n\n\n\n\n\n\n\n\n\n\n\n\n\nKosten:\n\nearly bird bei 
 Bezahlung 4 Wochen vor Workshop-Beginn. Danach erhöht sich deine Teilnahm
 ekosten automatisch auf den normalen Preis. Der Early-Bird-Tarif endet am 
 28.07.24 18 Uhr.\n\n40€\n\n&nbsp\;\n\nNormal\n\n50 € pro Person\n\n&nb
 sp\;\n\n\n\n\n&nbsp\;\n\nStornoregelungen:\nBei Stornierungen wird eine Be
 arbeitungsgebühr erhoben:\n- bis 2 Woche vor dem Termin 0%\n- ab 2 Woche 
 vor dem Termin 50%\n- 48 Std. vor dem Termin 100%\n\n
LOCATION:Jasa Potsdam\, Konsumhof 2\, Potsdam\, 14482\, Deutschland
X-APPLE-STRUCTURED-LOCATION;VALUE=URI;X-ADDRESS=Konsumhof 2\, Potsdam\, 144
 82\, Deutschland;X-APPLE-RADIUS=100;X-TITLE=Jasa Potsdam:geo:0,0
END:VEVENT
BEGIN:VTIMEZONE
TZID:Europe/Berlin
X-LIC-LOCATION:Europe/Berlin
BEGIN:DAYLIGHT
DTSTART:20240331T030000
TZOFFSETFROM:+0100
TZOFFSETTO:+0200
TZNAME:CEST
END:DAYLIGHT
END:VTIMEZONE
END:VCALENDAR