BEGIN:VCALENDAR
VERSION:2.0
PRODID:-//wp-events-plugin.com//7.2.3.1//EN
TZID:Europe/Berlin
X-WR-TIMEZONE:Europe/Berlin
BEGIN:VEVENT
UID:255@bdsm-potsdam.de
DTSTART;TZID=Europe/Berlin:20240303T160000
DTEND;TZID=Europe/Berlin:20240303T190000
DTSTAMP:20231203T121345Z
URL:https://bdsm-potsdam.de/events/one-rope/
SUMMARY:One Rope
DESCRIPTION:Von Marie (Armornadi) geleitet findet im "Jasa Potsdam" ein Bon
 dage Workshop statt.\n\nAnmelden ist Pflicht im Joyclub.de über die Event
 s jeweils.\n\nweitere Infos https://www.joyclub.de/event/1485090.one_rope_
 potsdam.html#information\n\n&nbsp\;
END:VEVENT
BEGIN:VTIMEZONE
TZID:Europe/Berlin
X-LIC-LOCATION:Europe/Berlin
BEGIN:STANDARD
DTSTART:20231029T020000
TZOFFSETFROM:+0200
TZOFFSETTO:+0100
TZNAME:CET
END:STANDARD
END:VTIMEZONE
END:VCALENDAR