BEGIN:VCALENDAR
VERSION:2.0
PRODID:-//wp-events-plugin.com//7.2.3.1//EN
TZID:Europe/Berlin
X-WR-TIMEZONE:Europe/Berlin
BEGIN:VEVENT
UID:248@bdsm-potsdam.de
DTSTART;TZID=Europe/Berlin:20240421T150000
DTEND;TZID=Europe/Berlin:20240421T180000
DTSTAMP:20231203T120214Z
URL:https://bdsm-potsdam.de/events/playfight-im-jasa-potsdam-3/
SUMMARY:Playfight im Jasa Potsdam
DESCRIPTION:Von Armornadi (Marie) geleitet findet im "Jasa Potsdam" Playfig
 ht statt.\n\nAnmelden ist Pflicht im Joyclub.de über die Events jeweils.
LOCATION:Jasa Potsdam\, Konsumhof 2\, Potsdam\, 14482\, Deutschland
X-APPLE-STRUCTURED-LOCATION;VALUE=URI;X-ADDRESS=Konsumhof 2\, Potsdam\, 144
 82\, Deutschland;X-APPLE-RADIUS=100;X-TITLE=Jasa Potsdam:geo:0,0
END:VEVENT
BEGIN:VTIMEZONE
TZID:Europe/Berlin
X-LIC-LOCATION:Europe/Berlin
BEGIN:DAYLIGHT
DTSTART:20240331T030000
TZOFFSETFROM:+0100
TZOFFSETTO:+0200
TZNAME:CEST
END:DAYLIGHT
END:VTIMEZONE
END:VCALENDAR