BEGIN:VCALENDAR
VERSION:2.0
PRODID:-//wp-events-plugin.com//7.2.3.1//EN
TZID:Europe/Berlin
X-WR-TIMEZONE:Europe/Berlin
BEGIN:VEVENT
UID:293@bdsm-potsdam.de
DTSTART;TZID=Europe/Berlin:20250323T120000
DTEND;TZID=Europe/Berlin:20250323T190000
DTSTAMP:20241223T174900Z
URL:https://bdsm-potsdam.de/events/rope-shiatsu-workshop/
SUMMARY:Rope Shiatsu - WORKSHOP
DESCRIPTION:Von René von Qibari geleitet findet im "Jasa Potsdam" der Rope
  Shiatsu Workshop statt.\n\nAnmelden ist Pflicht im Joyclub.de.\n\nUnbedin
 gt prüfen ob noch Plätze frei sind.\n\n&nbsp\;\n\nRope - Shiatsu ist die
  Fusion aus fernöstlicher Körperarbeit und Fesselkunst.\n\nShiatsu...\n\
 n... ist eine Kunst des Berührens\, eine Kunst mit dem Körper den Geist 
 und die Seele zu berühren.\n\n... ist absolute Präsenz in der Zuwendung 
 zum Gegenüber.\n\n... ist Zurückhaltung des eigenen Ego.\n\n&nbsp\;\n\nD
 ie Seile geben etwas dazu\, was sich dem kritischen Verstand schwer erschl
 ießt. Ein Zauber\, eine Mystik vielleicht. Auf jeden Fall eine mittelbare
  Berührung. Es entstehen eine Menge sensorischer Sensationen\, welche ein
  Mitdenken aussichtslos erscheinen und an Stelle dessen das Fühlen treten
  lassen.\n\n&nbsp\;\n\nweitere Infos hier\n\nhttps://www.mariecsiebers.com
 /angebote/shibari-bondage/rope-shiatsu-workshop/
LOCATION:Jasa Potsdam\, Konsumhof 2\, Potsdam\, 14482\, Deutschland
X-APPLE-STRUCTURED-LOCATION;VALUE=URI;X-ADDRESS=Konsumhof 2\, Potsdam\, 144
 82\, Deutschland;X-APPLE-RADIUS=100;X-TITLE=Jasa Potsdam:geo:0,0
END:VEVENT
BEGIN:VTIMEZONE
TZID:Europe/Berlin
X-LIC-LOCATION:Europe/Berlin
BEGIN:STANDARD
DTSTART:20241027T020000
TZOFFSETFROM:+0200
TZOFFSETTO:+0100
TZNAME:CET
END:STANDARD
END:VTIMEZONE
END:VCALENDAR